BEGIN:VCALENDAR
VERSION:2.0
PRODID:-//Cinema on the docks - ECPv6.5.1.4//NONSGML v1.0//EN
CALSCALE:GREGORIAN
METHOD:PUBLISH
X-ORIGINAL-URL:https://www.cinemaonthedocks.it
X-WR-CALDESC:Events for Cinema on the docks
REFRESH-INTERVAL;VALUE=DURATION:PT1H
X-Robots-Tag:noindex
X-PUBLISHED-TTL:PT1H
BEGIN:VTIMEZONE
TZID:Europe/Rome
BEGIN:DAYLIGHT
TZOFFSETFROM:+0100
TZOFFSETTO:+0200
TZNAME:CEST
DTSTART:20240331T010000
END:DAYLIGHT
BEGIN:STANDARD
TZOFFSETFROM:+0200
TZOFFSETTO:+0100
TZNAME:CET
DTSTART:20241027T010000
END:STANDARD
BEGIN:DAYLIGHT
TZOFFSETFROM:+0100
TZOFFSETTO:+0200
TZNAME:CEST
DTSTART:20250330T010000
END:DAYLIGHT
BEGIN:STANDARD
TZOFFSETFROM:+0200
TZOFFSETTO:+0100
TZNAME:CET
DTSTART:20251026T010000
END:STANDARD
END:VTIMEZONE
BEGIN:VEVENT
DTSTART;TZID=Europe/Rome:20241215T110000
DTEND;TZID=Europe/Rome:20241215T133000
DTSTAMP:20260423T002414
CREATED:20241209T161047Z
LAST-MODIFIED:20241209T161446Z
UID:3103-1734260400-1734269400@www.cinemaonthedocks.it
SUMMARY:CINEMA ON THE DOCKS CHRISTMAS PARTY
DESCRIPTION:Domenica 15 dicembre\, a partire dalle 11:00\, la Biblioteca di Morando si trasforma in un luogo magico per la nostra festa natalizia! Una giornata per brindare\, scambiarsi auguri e respirare aria di creatività insieme alla community di Cineteca Milano e di Cinema on the Docks.
URL:https://www.cinemaonthedocks.it/event/cinema-on-the-docks-christmas-party/
LOCATION:Cineteca Milano Biblioteca Morandini\, Via Tofane 49\, Milano\, Italia
CATEGORIES:Festa!
ATTACH;FMTTYPE=image/png:https://www.cinemaonthedocks.it/wp-content/uploads/2024/12/xmasparty_2024.png
END:VEVENT
BEGIN:VEVENT
DTSTART;TZID=Europe/Rome:20250116T100000
DTEND;TZID=Europe/Rome:20250116T130000
DTSTAMP:20260423T002414
CREATED:20250430T104707Z
LAST-MODIFIED:20250630T104837Z
UID:3152-1737021600-1737032400@www.cinemaonthedocks.it
SUMMARY:PROGETTO FR-AGILE!
DESCRIPTION:“Fr-Agile!” è nato con l’obiettivo di rafforzare il sistema di accoglienza dei Minori Stranieri Non Accompagnati di Milano e offrire maggiori opportunità di integrazione ai minori particolarmente fragili. Il progetto sostiene il lavoro e rinforza le competenze degli operatori\, promuove luoghi di confronto e ideazione di risposte innovative\, sperimenta nuovi dispositivi di accoglienza e accompagnamento educativo diurni e residenziali\, promuove il consolidamento delle reti territoriali e ne valorizza le esperienze virtuose.
URL:https://www.cinemaonthedocks.it/event/progetto-fr-agile-10/
LOCATION:Cineteca Milano Biblioteca Morandini\, Via Tofane 49\, Milano\, Italia
CATEGORIES:Laboratorio
ATTACH;FMTTYPE=image/png:https://www.cinemaonthedocks.it/wp-content/uploads/2025/04/FR-AGILE-Cropped-1.png
END:VEVENT
BEGIN:VEVENT
DTSTART;TZID=Europe/Rome:20250130T100000
DTEND;TZID=Europe/Rome:20250130T130000
DTSTAMP:20260423T002414
CREATED:20250430T104856Z
LAST-MODIFIED:20250630T105020Z
UID:3154-1738231200-1738242000@www.cinemaonthedocks.it
SUMMARY:PROGETTO FR-AGILE!
DESCRIPTION:“Fr-Agile!” è nato con l’obiettivo di rafforzare il sistema di accoglienza dei Minori Stranieri Non Accompagnati di Milano e offrire maggiori opportunità di integrazione ai minori particolarmente fragili. Il progetto sostiene il lavoro e rinforza le competenze degli operatori\, promuove luoghi di confronto e ideazione di risposte innovative\, sperimenta nuovi dispositivi di accoglienza e accompagnamento educativo diurni e residenziali\, promuove il consolidamento delle reti territoriali e ne valorizza le esperienze virtuose.
URL:https://www.cinemaonthedocks.it/event/progetto-fr-agile-11/
LOCATION:Cineteca Milano Biblioteca Morandini\, Via Tofane 49\, Milano\, Italia
CATEGORIES:Laboratorio
ATTACH;FMTTYPE=image/png:https://www.cinemaonthedocks.it/wp-content/uploads/2025/04/FR-AGILE-Cropped-1.png
END:VEVENT
BEGIN:VEVENT
DTSTART;TZID=Europe/Rome:20250203T093000
DTEND;TZID=Europe/Rome:20250203T133000
DTSTAMP:20260423T002414
CREATED:20250430T105035Z
LAST-MODIFIED:20250630T105221Z
UID:3156-1738575000-1738589400@www.cinemaonthedocks.it
SUMMARY:PROGETTO FR-AGILE!
DESCRIPTION:“Fr-Agile!” è nato con l’obiettivo di rafforzare il sistema di accoglienza dei Minori Stranieri Non Accompagnati di Milano e offrire maggiori opportunità di integrazione ai minori particolarmente fragili. Il progetto sostiene il lavoro e rinforza le competenze degli operatori\, promuove luoghi di confronto e ideazione di risposte innovative\, sperimenta nuovi dispositivi di accoglienza e accompagnamento educativo diurni e residenziali\, promuove il consolidamento delle reti territoriali e ne valorizza le esperienze virtuose.
URL:https://www.cinemaonthedocks.it/event/progetto-fr-agile-12/
LOCATION:Cineteca Milano Biblioteca Morandini\, Via Tofane 49\, Milano\, Italia
CATEGORIES:Laboratorio
ATTACH;FMTTYPE=image/png:https://www.cinemaonthedocks.it/wp-content/uploads/2025/04/FR-AGILE-Cropped-1.png
END:VEVENT
BEGIN:VEVENT
DTSTART;TZID=Europe/Rome:20250213T100000
DTEND;TZID=Europe/Rome:20250213T130000
DTSTAMP:20260423T002414
CREATED:20250430T105234Z
LAST-MODIFIED:20250630T105343Z
UID:3158-1739440800-1739451600@www.cinemaonthedocks.it
SUMMARY:PROGETTO FR-AGILE!
DESCRIPTION:“Fr-Agile!” è nato con l’obiettivo di rafforzare il sistema di accoglienza dei Minori Stranieri Non Accompagnati di Milano e offrire maggiori opportunità di integrazione ai minori particolarmente fragili. Il progetto sostiene il lavoro e rinforza le competenze degli operatori\, promuove luoghi di confronto e ideazione di risposte innovative\, sperimenta nuovi dispositivi di accoglienza e accompagnamento educativo diurni e residenziali\, promuove il consolidamento delle reti territoriali e ne valorizza le esperienze virtuose.
URL:https://www.cinemaonthedocks.it/event/progetto-fr-agile-13/
LOCATION:Cineteca Milano Biblioteca Morandini\, Via Tofane 49\, Milano\, Italia
CATEGORIES:Laboratorio
ATTACH;FMTTYPE=image/png:https://www.cinemaonthedocks.it/wp-content/uploads/2025/04/FR-AGILE-Cropped-1.png
END:VEVENT
BEGIN:VEVENT
DTSTART;TZID=Europe/Rome:20250217T100000
DTEND;TZID=Europe/Rome:20250217T130000
DTSTAMP:20260423T002414
CREATED:20250430T105401Z
LAST-MODIFIED:20250630T105504Z
UID:3160-1739786400-1739797200@www.cinemaonthedocks.it
SUMMARY:PROGETTO FR-AGILE!
DESCRIPTION:“Fr-Agile!” è nato con l’obiettivo di rafforzare il sistema di accoglienza dei Minori Stranieri Non Accompagnati di Milano e offrire maggiori opportunità di integrazione ai minori particolarmente fragili. Il progetto sostiene il lavoro e rinforza le competenze degli operatori\, promuove luoghi di confronto e ideazione di risposte innovative\, sperimenta nuovi dispositivi di accoglienza e accompagnamento educativo diurni e residenziali\, promuove il consolidamento delle reti territoriali e ne valorizza le esperienze virtuose.
URL:https://www.cinemaonthedocks.it/event/progetto-fr-agile-14/
LOCATION:Cineteca Milano Biblioteca Morandini\, Via Tofane 49\, Milano\, Italia
CATEGORIES:Laboratorio
ATTACH;FMTTYPE=image/png:https://www.cinemaonthedocks.it/wp-content/uploads/2025/04/FR-AGILE-Cropped-1.png
END:VEVENT
BEGIN:VEVENT
DTSTART;TZID=Europe/Rome:20250227T100000
DTEND;TZID=Europe/Rome:20250227T130000
DTSTAMP:20260423T002414
CREATED:20250430T105824Z
LAST-MODIFIED:20250630T105937Z
UID:3162-1740650400-1740661200@www.cinemaonthedocks.it
SUMMARY:PROGETTO FR-AGILE!
DESCRIPTION:“Fr-Agile!” è nato con l’obiettivo di rafforzare il sistema di accoglienza dei Minori Stranieri Non Accompagnati di Milano e offrire maggiori opportunità di integrazione ai minori particolarmente fragili. Il progetto sostiene il lavoro e rinforza le competenze degli operatori\, promuove luoghi di confronto e ideazione di risposte innovative\, sperimenta nuovi dispositivi di accoglienza e accompagnamento educativo diurni e residenziali\, promuove il consolidamento delle reti territoriali e ne valorizza le esperienze virtuose.
URL:https://www.cinemaonthedocks.it/event/progetto-fr-agile-15/
LOCATION:Cineteca Milano Biblioteca Morandini\, Via Tofane 49\, Milano\, Italia
CATEGORIES:Laboratorio
ATTACH;FMTTYPE=image/png:https://www.cinemaonthedocks.it/wp-content/uploads/2025/04/FR-AGILE-Cropped-1.png
END:VEVENT
BEGIN:VEVENT
DTSTART;TZID=Europe/Rome:20250305T100000
DTEND;TZID=Europe/Rome:20250305T130000
DTSTAMP:20260423T002414
CREATED:20250430T110830Z
LAST-MODIFIED:20250630T110942Z
UID:3164-1741168800-1741179600@www.cinemaonthedocks.it
SUMMARY:PROGETTO FR-AGILE!
DESCRIPTION:“Fr-Agile!” è nato con l’obiettivo di rafforzare il sistema di accoglienza dei Minori Stranieri Non Accompagnati di Milano e offrire maggiori opportunità di integrazione ai minori particolarmente fragili. Il progetto sostiene il lavoro e rinforza le competenze degli operatori\, promuove luoghi di confronto e ideazione di risposte innovative\, sperimenta nuovi dispositivi di accoglienza e accompagnamento educativo diurni e residenziali\, promuove il consolidamento delle reti territoriali e ne valorizza le esperienze virtuose.
URL:https://www.cinemaonthedocks.it/event/progetto-fr-agile-16/
LOCATION:Cineteca Milano Biblioteca Morandini\, Via Tofane 49\, Milano\, Italia
CATEGORIES:Laboratorio
ATTACH;FMTTYPE=image/png:https://www.cinemaonthedocks.it/wp-content/uploads/2025/04/FR-AGILE-Cropped-1.png
END:VEVENT
BEGIN:VEVENT
DTSTART;TZID=Europe/Rome:20250306T100000
DTEND;TZID=Europe/Rome:20250306T130000
DTSTAMP:20260423T002414
CREATED:20250430T111014Z
LAST-MODIFIED:20250630T111119Z
UID:3166-1741255200-1741266000@www.cinemaonthedocks.it
SUMMARY:PROGETTO FR-AGILE!
DESCRIPTION:“Fr-Agile!” è nato con l’obiettivo di rafforzare il sistema di accoglienza dei Minori Stranieri Non Accompagnati di Milano e offrire maggiori opportunità di integrazione ai minori particolarmente fragili. Il progetto sostiene il lavoro e rinforza le competenze degli operatori\, promuove luoghi di confronto e ideazione di risposte innovative\, sperimenta nuovi dispositivi di accoglienza e accompagnamento educativo diurni e residenziali\, promuove il consolidamento delle reti territoriali e ne valorizza le esperienze virtuose.
URL:https://www.cinemaonthedocks.it/event/progetto-fr-agile-17/
LOCATION:Cineteca Milano Biblioteca Morandini\, Via Tofane 49\, Milano\, Italia
CATEGORIES:Laboratorio
ATTACH;FMTTYPE=image/png:https://www.cinemaonthedocks.it/wp-content/uploads/2025/04/FR-AGILE-Cropped-1.png
END:VEVENT
BEGIN:VEVENT
DTSTART;TZID=Europe/Rome:20250401T210000
DTEND;TZID=Europe/Rome:20250401T233000
DTSTAMP:20260423T002414
CREATED:20250401T151035Z
LAST-MODIFIED:20250401T151035Z
UID:3106-1743541200-1743550200@www.cinemaonthedocks.it
SUMMARY:UGUALMENTE DIVERSI
DESCRIPTION:UGUALMENTE DIVERSI \nRegia: Federika Ponnetti\nAnno: 2024\nDurata: 84′\nPaese: Italia \nProiezione in occasione della Giornata mondiale per la consapevolezza sull’autismo (2 aprile).  \nLa regista Federika Ponnetti sarà presente in sala \nUgualmente Diversi racconta la storia di Lorenzo\, Andrea e Gabriele\, tre camerieri che lavorano nella\npizzeria “PizzAut” di Monza gestita da ragazzi autistici. Gabri studia Storia all’università\, Lori impiega due ore\ncon i mezzi per andare al lavoro e non vede l’ora di essere assunto a tempo indeterminato e Andrea\, che in\npoco tempo è diventato un violinista\, per la prima volta suonerà a un matrimonio. Nel mentre gli studenti\ndell’ultimo anno del liceo scientifico Sacro Cuore di Modena\, con la Prof. Giulia Zanasi\, fanno un percorso\nsul valore della diversità\, anche attraverso un laboratorio di Mobile-FilmMaking\, e si affrontano in un\ndibattito. Le storie si intrecciano quando la classe va a fare l’esperienza di mangiare nella pizzeria dove\nlavorano i nostri protagonisti che diventano tutor speciali e insegnano agli studenti il mestiere del cameriere\,\ne non solo\, e si apre una riflessione. Non avrebbe più senso oggi parlare di unicità dell’individuo\, invece che\ndi diversità? \n 
URL:https://www.cinemaonthedocks.it/event/ugualmente-diversi/
LOCATION:Cineteca Milano Arlecchino\, Via San Pietro all'Orto 9\, Milano\, Italia
CATEGORIES:Proiezione
ATTACH;FMTTYPE=image/jpeg:https://www.cinemaonthedocks.it/wp-content/uploads/2025/04/UGUALMENTE-DIVERSI-Cropped.jpg
END:VEVENT
BEGIN:VEVENT
DTSTART;TZID=Europe/Rome:20250417T100000
DTEND;TZID=Europe/Rome:20250417T130000
DTSTAMP:20260423T002414
CREATED:20250430T111131Z
LAST-MODIFIED:20250630T111230Z
UID:3168-1744884000-1744894800@www.cinemaonthedocks.it
SUMMARY:PROGETTO FR-AGILE!
DESCRIPTION:“Fr-Agile!” è nato con l’obiettivo di rafforzare il sistema di accoglienza dei Minori Stranieri Non Accompagnati di Milano e offrire maggiori opportunità di integrazione ai minori particolarmente fragili. Il progetto sostiene il lavoro e rinforza le competenze degli operatori\, promuove luoghi di confronto e ideazione di risposte innovative\, sperimenta nuovi dispositivi di accoglienza e accompagnamento educativo diurni e residenziali\, promuove il consolidamento delle reti territoriali e ne valorizza le esperienze virtuose.
URL:https://www.cinemaonthedocks.it/event/progetto-fr-agile-18/
LOCATION:Cineteca Milano Biblioteca Morandini\, Via Tofane 49\, Milano\, Italia
CATEGORIES:Laboratorio
ATTACH;FMTTYPE=image/png:https://www.cinemaonthedocks.it/wp-content/uploads/2025/04/FR-AGILE-Cropped-1.png
END:VEVENT
BEGIN:VEVENT
DTSTART;TZID=Europe/Rome:20250507T093000
DTEND;TZID=Europe/Rome:20250507T140000
DTSTAMP:20260423T002414
CREATED:20250430T111246Z
LAST-MODIFIED:20250630T111445Z
UID:3170-1746610200-1746626400@www.cinemaonthedocks.it
SUMMARY:PROGETTO FR-AGILE!
DESCRIPTION:“Fr-Agile!” è nato con l’obiettivo di rafforzare il sistema di accoglienza dei Minori Stranieri Non Accompagnati di Milano e offrire maggiori opportunità di integrazione ai minori particolarmente fragili. Il progetto sostiene il lavoro e rinforza le competenze degli operatori\, promuove luoghi di confronto e ideazione di risposte innovative\, sperimenta nuovi dispositivi di accoglienza e accompagnamento educativo diurni e residenziali\, promuove il consolidamento delle reti territoriali e ne valorizza le esperienze virtuose.
URL:https://www.cinemaonthedocks.it/event/progetto-fr-agile-19/
LOCATION:Cineteca Milano Biblioteca Morandini\, Via Tofane 49\, Milano\, Italia
CATEGORIES:Laboratorio
ATTACH;FMTTYPE=image/png:https://www.cinemaonthedocks.it/wp-content/uploads/2025/04/FR-AGILE-Cropped-1.png
END:VEVENT
END:VCALENDAR