BEGIN:VCALENDAR
VERSION:2.0
PRODID:-//Cinema on the docks - ECPv6.5.1.4//NONSGML v1.0//EN
CALSCALE:GREGORIAN
METHOD:PUBLISH
X-WR-CALNAME:Cinema on the docks
X-ORIGINAL-URL:https://www.cinemaonthedocks.it
X-WR-CALDESC:Events for Cinema on the docks
REFRESH-INTERVAL;VALUE=DURATION:PT1H
X-Robots-Tag:noindex
X-PUBLISHED-TTL:PT1H
BEGIN:VTIMEZONE
TZID:Europe/Rome
BEGIN:DAYLIGHT
TZOFFSETFROM:+0100
TZOFFSETTO:+0200
TZNAME:CEST
DTSTART:20240331T010000
END:DAYLIGHT
BEGIN:STANDARD
TZOFFSETFROM:+0200
TZOFFSETTO:+0100
TZNAME:CET
DTSTART:20241027T010000
END:STANDARD
END:VTIMEZONE
BEGIN:VEVENT
DTSTART;TZID=Europe/Rome:20240919T203000
DTEND;TZID=Europe/Rome:20240919T223000
DTSTAMP:20260423T002312
CREATED:20240917T103821Z
LAST-MODIFIED:20240917T104337Z
UID:2529-1726777800-1726785000@www.cinemaonthedocks.it
SUMMARY:PER DESIDERIO
DESCRIPTION:Per desiderio è un documentario sulle immagini del cielo intese in chiave poetica\, letteraria e scientifica. Al centro della narrazione vi è un viaggio condotto da una ricercatrice di letteratura italiana\, donna con disabilità motoria\, e un astrofisico\, appassionato di Archeoastronomia\, per intervistare persone che hanno visto il cielo da punti di vista diversi tra loro. \nLa narrazione vuole partire da un elemento che ci unisce tutti noi – il cielo sopra le nostre teste – e vuole stimolare lo spettatore ad osservare la realtà da diversi punti di vista contemporanea\, per educare alla flessibilità del pensiero e alla cultura della diversità come ricchezza. \nLa regista e sceneggiatrice del film Paola Tricomi sarà presente in sala per un incontro con il pubblico al termine della proiezione. \nINFO E PRENOTAZIONI
URL:https://www.cinemaonthedocks.it/event/per-desiderio/
LOCATION:Cineteca Milano Arlecchino\, Via San Pietro all'Orto 9\, Milano\, Italia
CATEGORIES:Proiezione
ATTACH;FMTTYPE=image/jpeg:https://www.cinemaonthedocks.it/wp-content/uploads/2024/09/unnamed-5-2391906700.jpg
END:VEVENT
BEGIN:VEVENT
DTSTART;TZID=Europe/Rome:20240902T183000
DTEND;TZID=Europe/Rome:20240902T203000
DTSTAMP:20260423T002312
CREATED:20240904T095213Z
LAST-MODIFIED:20240904T095606Z
UID:2448-1725301800-1725309000@www.cinemaonthedocks.it
SUMMARY:PRESENTAZIONE DEL LIBRO "100 PEZZI FACILI DI MORANDO MORANDINI"
DESCRIPTION:Cineteca Milano è lieta di invitarvi alla presentazione del volume da lei realizzato 100 pezzi facili di Morando Morandini\, a cura di Luisa Morandini (edizioni La vita felice). \nL’incontro si terrà il 2 settembre alle ore 18.30 presso la Casa degli Autori in via Pietro Buratti 1\, al Lido di Venezia e sarà moderato da Giorgio Gosetti\, delegato generale delle Giornate degli Autori che ospitano l’evento.\nSeguirà un aperitivo all’Isola Edipo alle spalle del PalaBiennale. \nLa presentazione rientra nell’ambito di Cinema on the Docks – Milano e Locarno\, progetto promosso da Fondazione Cineteca Italiana e sostenuto da Fondazione Cariplo nell’ambito del programma per la cultura in collaborazione con Filmidee\, Codici Ricerche coop. soc.\, Vividown e AGPD-Associazione Genitori Persone Down. \nLa pubblicazione celebra Morando Morandini\, uno dei massimi critici cinematografici e figura di spicco della cultura italiana del secondo dopoguerra\, nel centenario dalla nascita. Il libro è il primo frutto del lungo lavoro di organizzazione\, sintesi e sistematizzazione dell’archivio Morandini – che contiene scritti editi\, inediti e tutta l’opera del critico e giornalista – e che è conservato presso la Biblioteca di Cineteca Milano dal 2017. \nIl volume sarà presentato anche il 3 ottobre\, al cinema Cineteca Milano Arlecchino di via San Pietro all’Orto 9 a Milano\, unitamente alla proiezione di Prima della Rivoluzione di Bernardo Bertolucci\, che aveva visto nel cast lo stesso Morando Morandini; alla proiezione sarà presente anche Valentina Ricciardelli\, presidente della Fondazione Bernardo Bertolucci.
URL:https://www.cinemaonthedocks.it/event/presentazione-del-libro-100-pezzi-facili-di-morando-morandini/
LOCATION:Casa degli Autori\, Lido di Venezia\, Venezia\, Italia
CATEGORIES:Incontro
ATTACH;FMTTYPE=image/jpeg:https://www.cinemaonthedocks.it/wp-content/uploads/2024/09/15-scaled.jpg
END:VEVENT
BEGIN:VEVENT
DTSTART;TZID=Europe/Rome:20240721T170000
DTEND;TZID=Europe/Rome:20240721T200000
DTSTAMP:20260423T002312
CREATED:20240904T094434Z
LAST-MODIFIED:20240917T091344Z
UID:2424-1721581200-1721592000@www.cinemaonthedocks.it
SUMMARY:I 100 ANNI DI MORANDO MORANDINI
DESCRIPTION:Il 21 luglio 1924 nasceva a Milano Morando Morandini\, uno dei massimi critici cinematografici e figura di spicco della cultura italiana del secondo dopoguerra. Per celebrare l’anniversario\, Cineteca Milano – insieme a Luisa Morandini e in collaborazione con il gruppo Lombardia del SNCCI – Sindacato Nazionale Critici Cinematografici Italiani – organizzerà un evento che si terrà il 21 luglio\, dalle ore 17.00\, presso il cinema Arlecchino di via San Pietro all’Orto 9 a Milano. \nPrima della proiezione di Hiroshima Mon Amour di Alain Resnais\, uno dei film più apprezzati da Morando Morandini\, ci sarà un collegamento video con il regista Mario Martone che ne ricorderà la figura. \nSono diverse le attività e le iniziative in cantiere e in sviluppo pensate in occasione del centenario: \n\nLa casa editrice Il castoro ha rieditato il libro Non sono che un critico che Morandini scrisse nel 1995.\nIl Gruppo Lombardia del SNCCI ha lanciato il “Premio Morando”\, che avrà cadenza annuale e premierà il miglior libro italiano di critica cinematografica dell’anno precedente (2023). Gli appartenenti al Gruppo Lombardia del SNCCI hanno selezionato i primi dodici finalisti. Una giuria di nove membri (critici cinematografici lombardi e famiglia Morandini) sceglierà poi il vincitore.\nGrazie a un finanziamento del MIC – Ministero Italiano della Cultura\, l’associazione Laura e Morando Morandini – che per dieci anni a Levanto (SP) ha organizzato il LauraFilmFestival – sta lavorando alla realizzazione della Piattaforma Morandini\, un portale attivo dall’autunno che conterrà videorecensioni\, materiali di storia del cinema e molto altro ancora.\n\nAnche Cineteca Milano ha in programma due iniziative per ricordare Morando Morandini. La prima è la pubblicazione del volume 100 pezzi facili di Morando Morandini\, a cura di Luisa Morandini\, che sarà presentato durante la Mostra del Cinema di Venezia (Lido\, 28 agosto – 7 settembre). Il libro è il primo frutto del lungo lavoro di organizzazione\, sintesi e sistematizzazione dell’archivio Morandini – che contiene scritti editi\, inediti e tutta l’opera del critico e giornalista – e che è conservato presso la Biblioteca di Cineteca Milano dal 2017.Come scrive Matteo Pavesi\, direttore di Cineteca Milano nella prefazione: «100 pezzi facili di Morandini\, nei cento anni dalla nascita di Morando\, è il primo libro che nasce da questo deposito librario\, la cui finalità è di introdurre il lettore nell’universo di un critico complesso e mai scontato. È un preambolo corposo che ci annuncia un lavoro impegnativo di catalogazione e studio che seguirà nei prossimi anni». La seconda iniziativa è la proiezione il 3 ottobre\, sempre al cinema Arlecchino\, di Prima della Rivoluzione di Bernardo Bertolucci\, che aveva visto nel cast lo stesso Morando Morandini; alla proiezione sarà presente anche Valentina Ricciardelli\, presidente della Fondazione Bernardo Bertolucci. La serata sarà un’occasione per presentare al pubblico milanese il volume 100 pezzi facili di Morando Morandini.
URL:https://www.cinemaonthedocks.it/event/i-100-anni-di-morando-morandini/
LOCATION:Cineteca Milano Arlecchino\, Via San Pietro all'Orto 9\, Milano\, Italia
CATEGORIES:Incontro,Proiezione
ATTACH;FMTTYPE=image/jpeg:https://www.cinemaonthedocks.it/wp-content/uploads/2024/09/12.jpg
END:VEVENT
END:VCALENDAR