BEGIN:VCALENDAR
VERSION:2.0
PRODID:-//Cinema on the docks - ECPv6.5.1.4//NONSGML v1.0//EN
CALSCALE:GREGORIAN
METHOD:PUBLISH
X-ORIGINAL-URL:https://www.cinemaonthedocks.it
X-WR-CALDESC:Events for Cinema on the docks
REFRESH-INTERVAL;VALUE=DURATION:PT1H
X-Robots-Tag:noindex
X-PUBLISHED-TTL:PT1H
BEGIN:VTIMEZONE
TZID:Europe/Rome
BEGIN:DAYLIGHT
TZOFFSETFROM:+0100
TZOFFSETTO:+0200
TZNAME:CEST
DTSTART:20240331T010000
END:DAYLIGHT
BEGIN:STANDARD
TZOFFSETFROM:+0200
TZOFFSETTO:+0100
TZNAME:CET
DTSTART:20241027T010000
END:STANDARD
END:VTIMEZONE
BEGIN:VEVENT
DTSTART;TZID=Europe/Rome:20241126T160000
DTEND;TZID=Europe/Rome:20241126T180000
DTSTAMP:20260422T072806
CREATED:20241024T093428Z
LAST-MODIFIED:20241026T144004Z
UID:2728-1732636800-1732644000@www.cinemaonthedocks.it
SUMMARY:FOCOLARI: I FOUGHT THE LAW
DESCRIPTION:Mappa per orientarsi tra le opportunità di finanziamento pubblico in Italia destinate al cinema indipendente\, un incontro con Ivan Olgiati\, di CNA Emilia Romagna\, modera Francesca Bennett.
URL:https://www.cinemaonthedocks.it/event/focolari-i-fought-the-law/
LOCATION:Cineteca Milano Biblioteca Morandini\, Via Tofane 49\, Milano\, Italia
ATTACH;FMTTYPE=image/png:https://www.cinemaonthedocks.it/wp-content/uploads/2024/10/IVANOLGIATI.png
END:VEVENT
END:VCALENDAR