BEGIN:VCALENDAR
VERSION:2.0
PRODID:-//Cinema on the docks - ECPv6.5.1.4//NONSGML v1.0//EN
CALSCALE:GREGORIAN
METHOD:PUBLISH
X-ORIGINAL-URL:https://www.cinemaonthedocks.it
X-WR-CALDESC:Events for Cinema on the docks
REFRESH-INTERVAL;VALUE=DURATION:PT1H
X-Robots-Tag:noindex
X-PUBLISHED-TTL:PT1H
BEGIN:VTIMEZONE
TZID:Europe/Rome
BEGIN:DAYLIGHT
TZOFFSETFROM:+0100
TZOFFSETTO:+0200
TZNAME:CEST
DTSTART:20240331T010000
END:DAYLIGHT
BEGIN:STANDARD
TZOFFSETFROM:+0200
TZOFFSETTO:+0100
TZNAME:CET
DTSTART:20241027T010000
END:STANDARD
END:VTIMEZONE
BEGIN:VEVENT
DTSTART;VALUE=DATE:20241011
DTEND;VALUE=DATE:20241015
DTSTAMP:20260422T104624
CREATED:20240904T101652Z
LAST-MODIFIED:20240919T112415Z
UID:2456-1728604800-1728950399@www.cinemaonthedocks.it
SUMMARY:RASSEGNA "LOCARNO A MILANO"
DESCRIPTION:Coming soon...\n\nLa Rassegna Locarno a Milano è un evento cinematografico che porta a Milano una selezione dei film presentati al prestigioso Locarno Film Festival. Organizzata in collaborazione con il Locarno Film Festival\, questa rassegna offre al pubblico milanese l'opportunità di vedere alcune delle opere più significative e innovative che hanno partecipato al festival\, comprese anteprime\, film premiati e opere di registi emergenti.\n\nL'evento mira a promuovere la cultura cinematografica internazionale\, rendendo accessibili al pubblico italiano film d'autore e produzioni indipendenti che altrimenti avrebbero una distribuzione limitata. La rassegna rappresenta un ponte culturale tra il festival svizzero e il pubblico italiano\, consolidando il legame tra le due città nel nome del cinema di qualità.
URL:https://www.cinemaonthedocks.it/event/rassegna-locarno-a-milano/
LOCATION:Cineteca Milano Arlecchino\, Via San Pietro all'Orto 9\, Milano\, Italia
CATEGORIES:Proiezione
ATTACH;FMTTYPE=image/jpeg:https://www.cinemaonthedocks.it/wp-content/uploads/2024/09/locarno_film_festival_1-89258742.jpg
END:VEVENT
BEGIN:VEVENT
DTSTART;TZID=Europe/Rome:20241014T183000
DTEND;TZID=Europe/Rome:20241014T203000
DTSTAMP:20260422T104624
CREATED:20240928T174105Z
LAST-MODIFIED:20240928T174105Z
UID:2605-1728930600-1728937800@www.cinemaonthedocks.it
SUMMARY:LOCARNO A MILANO: HOLY ELECTRICITY
DESCRIPTION:Tato Kotetishvili\, Paesi Bassi\, 95′\, 2024\, v.o. georgiano sott.it. \nANTEPRIMA ITALIANA \nQuando il giovane Gonga e suo cugino Bart trovano una valigia piena di croci arrugginite in un deposito di rottami\, a Bart viene l’idea di trasformarle in crocifissi al neon e di venderli porta a porta agli abitanti di Tbilisi. La loro crociata attraverso la città si trasforma in una ricerca di amore e amicizia. Esordio fulminante di un regista in grado di trasformare l’alienazione in intimità\, l’estetica in narrazione\, il dolore in passione travolgente. \nFilm vincitore del Pardo d’oro – Concorso Cineasti del presente \n\n\n\n\n\nSi consolida ulteriormente lo stretto legame tra il Locarno Film Festival e Cineteca Milano. Dall’11 al 14 ottobre\, infatti\, il Cinema Arlecchino ospiterà Locarno a Milano: quattro giorni – uno in più rispetto all’edizione del 2023 dedicati ai film della 77ª edizione dello storico festival svizzero\, presentati in esclusiva per la città e che vedranno la presenza di registi\, attori e ospiti che accompagneranno i film provenienti dalle sezioni più importanti.\nLocarno a Milano è un progetto di Cineteca Milano e Locarno Film Festival\, realizzato con il sostegno di Cinema on the Docks\, Fondazione Cariplo\, Filmidee\, Regione Lombardia\, Comune di Milano\, Ministero della Cultura e che vede come partner WindeX\, Istituto Svizzero di Milano e Ambasciata della Repubblica di Lituania. \n\nSCOPRI E ACQUISTA \n\nBiglietto intero: 8\,50 euro\nBiglietto ridotto under 25 e over 65: 7\,50 euro\nBiglietto ridotto Cinetessera: 6\,50 euro\nAbbonamento per tutti i film della rassegna: 20 euro (2\,20€ / biglietto)\nAbbonamento ridotto per studenti\, over 65 e possessori cinetessera: 15 euro (1\,60€ / biglietto) \nSCARICA LA PROGRAMMAZIONE COMPLETA
URL:https://www.cinemaonthedocks.it/event/locarno-a-milano-holy-electricity/
LOCATION:Cineteca Milano Arlecchino\, Via San Pietro all'Orto 9\, Milano\, Italia
CATEGORIES:Proiezione
ATTACH;FMTTYPE=image/png:https://www.cinemaonthedocks.it/wp-content/uploads/2024/09/HOLY-ELECTRICITY.png
END:VEVENT
BEGIN:VEVENT
DTSTART;TZID=Europe/Rome:20241014T203000
DTEND;TZID=Europe/Rome:20241014T223000
DTSTAMP:20260422T104624
CREATED:20240928T174344Z
LAST-MODIFIED:20240928T174344Z
UID:2607-1728937800-1728945000@www.cinemaonthedocks.it
SUMMARY:LOCARNO A MILANO: REAL
DESCRIPTION:Adele Tulli\, Italia\, 83′\, 2024\, v.o. coreano/inglese/tedesco/italiano sott.it. \nI dispositivi digitali non sono più solo strumenti\, bensì una porta di accesso a mondi aumentati in continua crescita\, percepiti perlopiù senza una connessione fisica. Di cosa è fatta la realtà oggi? Un viaggio dentro la nostra umanità nell’era digitale. Dopo Normal\, Adele Tulli continua la sua indagine antropologica attraverso le immagini\, mostrando uno dei nervi scoperti della contemporaneità. \nALLA PRESENZA DELLA REGISTA ADELE TULLI \n\n\n\n\n\nSi consolida ulteriormente lo stretto legame tra il Locarno Film Festival e Cineteca Milano. Dall’11 al 14 ottobre\, infatti\, il Cinema Arlecchino ospiterà Locarno a Milano: quattro giorni – uno in più rispetto all’edizione del 2023 dedicati ai film della 77ª edizione dello storico festival svizzero\, presentati in esclusiva per la città e che vedranno la presenza di registi\, attori e ospiti che accompagneranno i film provenienti dalle sezioni più importanti.\nLocarno a Milano è un progetto di Cineteca Milano e Locarno Film Festival\, realizzato con il sostegno di Cinema on the Docks\, Fondazione Cariplo\, Filmidee\, Regione Lombardia\, Comune di Milano\, Ministero della Cultura e che vede come partner WindeX\, Istituto Svizzero di Milano e Ambasciata della Repubblica di Lituania. \n\nSCOPRI E ACQUISTA \n\nBiglietto intero: 8\,50 euro\nBiglietto ridotto under 25 e over 65: 7\,50 euro\nBiglietto ridotto Cinetessera: 6\,50 euro\nAbbonamento per tutti i film della rassegna: 20 euro (2\,20€ / biglietto)\nAbbonamento ridotto per studenti\, over 65 e possessori cinetessera: 15 euro (1\,60€ / biglietto) \nSCARICA LA PROGRAMMAZIONE COMPLETA
URL:https://www.cinemaonthedocks.it/event/locarno-a-milano-real/
LOCATION:Cineteca Milano Arlecchino\, Via San Pietro all'Orto 9\, Milano\, Italia
CATEGORIES:Proiezione
ATTACH;FMTTYPE=image/png:https://www.cinemaonthedocks.it/wp-content/uploads/2024/09/REAL.png
END:VEVENT
END:VCALENDAR