BEGIN:VCALENDAR
VERSION:2.0
PRODID:-//Cinema on the docks - ECPv6.5.1.4//NONSGML v1.0//EN
CALSCALE:GREGORIAN
METHOD:PUBLISH
X-ORIGINAL-URL:https://www.cinemaonthedocks.it
X-WR-CALDESC:Events for Cinema on the docks
REFRESH-INTERVAL;VALUE=DURATION:PT1H
X-Robots-Tag:noindex
X-PUBLISHED-TTL:PT1H
BEGIN:VTIMEZONE
TZID:Europe/Rome
BEGIN:DAYLIGHT
TZOFFSETFROM:+0100
TZOFFSETTO:+0200
TZNAME:CEST
DTSTART:20240331T010000
END:DAYLIGHT
BEGIN:STANDARD
TZOFFSETFROM:+0200
TZOFFSETTO:+0100
TZNAME:CET
DTSTART:20241027T010000
END:STANDARD
END:VTIMEZONE
BEGIN:VEVENT
DTSTART;VALUE=DATE:20241011
DTEND;VALUE=DATE:20241015
DTSTAMP:20260422T105004
CREATED:20240904T101652Z
LAST-MODIFIED:20240919T112415Z
UID:2456-1728604800-1728950399@www.cinemaonthedocks.it
SUMMARY:RASSEGNA "LOCARNO A MILANO"
DESCRIPTION:Coming soon...\n\nLa Rassegna Locarno a Milano è un evento cinematografico che porta a Milano una selezione dei film presentati al prestigioso Locarno Film Festival. Organizzata in collaborazione con il Locarno Film Festival\, questa rassegna offre al pubblico milanese l'opportunità di vedere alcune delle opere più significative e innovative che hanno partecipato al festival\, comprese anteprime\, film premiati e opere di registi emergenti.\n\nL'evento mira a promuovere la cultura cinematografica internazionale\, rendendo accessibili al pubblico italiano film d'autore e produzioni indipendenti che altrimenti avrebbero una distribuzione limitata. La rassegna rappresenta un ponte culturale tra il festival svizzero e il pubblico italiano\, consolidando il legame tra le due città nel nome del cinema di qualità.
URL:https://www.cinemaonthedocks.it/event/rassegna-locarno-a-milano/
LOCATION:Cineteca Milano Arlecchino\, Via San Pietro all'Orto 9\, Milano\, Italia
CATEGORIES:Proiezione
ATTACH;FMTTYPE=image/jpeg:https://www.cinemaonthedocks.it/wp-content/uploads/2024/09/locarno_film_festival_1-89258742.jpg
END:VEVENT
BEGIN:VEVENT
DTSTART;TZID=Europe/Rome:20241012T170000
DTEND;TZID=Europe/Rome:20241012T190000
DTSTAMP:20260422T105004
CREATED:20240928T170638Z
LAST-MODIFIED:20240928T170638Z
UID:2594-1728752400-1728759600@www.cinemaonthedocks.it
SUMMARY:LOCARNO A MILANO: VENTESIMO SECOLO
DESCRIPTION:Howard Hawks\, 1934\, 91′\, USA\, v.o. inglese sott.it. \nUn impresario di Broadway in difficoltà cerca di convincere la sua ex\, ormai diventata una diva di Hollywood\, a tornare e aiutarlo a far risorgere la sua fallimentare carriera. Un grande classico della commedia sofisticata\, considerato uno dei capolavori assoluti del genio di Howard Hawks. \n\n\n\nINTRODUZIONE A CURA DEL CRITICO PAOLO MEREGHETTI \nSi consolida ulteriormente lo stretto legame tra il Locarno Film Festival e Cineteca Milano. Dall’11 al 14 ottobre\, infatti\, il Cinema Arlecchino ospiterà Locarno a Milano: quattro giorni – uno in più rispetto all’edizione del 2023 dedicati ai film della 77ª edizione dello storico festival svizzero\, presentati in esclusiva per la città e che vedranno la presenza di registi\, attori e ospiti che accompagneranno i film provenienti dalle sezioni più importanti.\nLocarno a Milano è un progetto di Cineteca Milano e Locarno Film Festival\, realizzato con il sostegno di Cinema on the Docks\, Fondazione Cariplo\, Filmidee\, Regione Lombardia\, Comune di Milano\, Ministero della Cultura e che vede come partner WindeX\, Istituto Svizzero di Milano e Ambasciata della Repubblica di Lituania. \n\nSCOPRI E ACQUISTA \n\nBiglietto intero: 8\,50 euro\nBiglietto ridotto under 25 e over 65: 7\,50 euro\nBiglietto ridotto Cinetessera: 6\,50 euro\nAbbonamento per tutti i film della rassegna: 20 euro (2\,20€ / biglietto)\nAbbonamento ridotto per studenti\, over 65 e possessori cinetessera: 15 euro (1\,60€ / biglietto) \nSCARICA LA PROGRAMMAZIONE COMPLETA
URL:https://www.cinemaonthedocks.it/event/locarno-a-milano-ventesimo-secolo/
LOCATION:Cineteca Milano Arlecchino\, Via San Pietro all'Orto 9\, Milano\, Italia
CATEGORIES:Proiezione
ATTACH;FMTTYPE=image/png:https://www.cinemaonthedocks.it/wp-content/uploads/2024/09/TWENTIETH-CENTURY.png
END:VEVENT
BEGIN:VEVENT
DTSTART;TZID=Europe/Rome:20241012T190000
DTEND;TZID=Europe/Rome:20241012T210000
DTSTAMP:20260422T105004
CREATED:20240928T172827Z
LAST-MODIFIED:20240928T172827Z
UID:2596-1728759600-1728766800@www.cinemaonthedocks.it
SUMMARY:LOCARNO A MILANO: CENT MILLE MILLIARDS
DESCRIPTION:Virgil Vernier\, Francia\, 77′\, 2024\, v.o. francese sott.it. \nANTEPRIMA ITALIANA \nAfine è un gigolò che non sa cosa fare della sua vita\, la dodicenne Julia è figlia di miliardari cinesi e viene cresciuta dalle babysitter. Si incontrano per uno strano giro del destino e si scoprono vicini\, confidandosi i loro sogni\, speranze e paure. Uno dei più promettenti cineasti francesi della nuova generazione\, Virgil Vernier\, realizza un’opera ellittica e seducente\, che conquista tra tenerezza\, commozione e un’ormai impossibile lotta di classe. \n\n\n\nALLA PRESENZA DEL REGISTA VIRGIL VERNIER \nSi consolida ulteriormente lo stretto legame tra il Locarno Film Festival e Cineteca Milano. Dall’11 al 14 ottobre\, infatti\, il Cinema Arlecchino ospiterà Locarno a Milano: quattro giorni – uno in più rispetto all’edizione del 2023 dedicati ai film della 77ª edizione dello storico festival svizzero\, presentati in esclusiva per la città e che vedranno la presenza di registi\, attori e ospiti che accompagneranno i film provenienti dalle sezioni più importanti.\nLocarno a Milano è un progetto di Cineteca Milano e Locarno Film Festival\, realizzato con il sostegno di Cinema on the Docks\, Fondazione Cariplo\, Filmidee\, Regione Lombardia\, Comune di Milano\, Ministero della Cultura e che vede come partner WindeX\, Istituto Svizzero di Milano e Ambasciata della Repubblica di Lituania. \n\nSCOPRI E ACQUISTA \n\nBiglietto intero: 8\,50 euro\nBiglietto ridotto under 25 e over 65: 7\,50 euro\nBiglietto ridotto Cinetessera: 6\,50 euro\nAbbonamento per tutti i film della rassegna: 20 euro (2\,20€ / biglietto)\nAbbonamento ridotto per studenti\, over 65 e possessori cinetessera: 15 euro (1\,60€ / biglietto) \nSCARICA LA PROGRAMMAZIONE COMPLETA
URL:https://www.cinemaonthedocks.it/event/locarno-a-milano-cent-mille-milliards/
LOCATION:Cineteca Milano Arlecchino\, Via San Pietro all'Orto 9\, Milano\, Italia
CATEGORIES:Proiezione
ATTACH;FMTTYPE=image/png:https://www.cinemaonthedocks.it/wp-content/uploads/2024/09/CENT-MILLE-MILLIARDS.png
END:VEVENT
BEGIN:VEVENT
DTSTART;TZID=Europe/Rome:20241012T210000
DTEND;TZID=Europe/Rome:20241012T230000
DTSTAMP:20260422T105004
CREATED:20240928T173206Z
LAST-MODIFIED:20240928T173206Z
UID:2598-1728766800-1728774000@www.cinemaonthedocks.it
SUMMARY:LOCARNO A MILANO: BY THE STREAM
DESCRIPTION:Hong Sangsoo\, Corea del Sud\, 111′\, 2024\, v.o. coreano sott.it.\n\n\nANTEPRIMA ITALIANA \nLa giovane docente Jeonim chiede al suo celebre zio di mettere in scena una rappresentazione teatrale organizzata dal suo dipartimento. Lo zio accetta di occuparsene\, memore di una simile esperienza in quella stessa università\, 40 anni prima. Tra gli studenti scoppia uno scandalo e zio e nipote finiscono per esserne coinvolti. Il maestro del cinema coreano Hong Sangsoo ritrova la sua musa storica Kim Minhee in un’opera corposa e commovente\, che parla di teatro\, rapporti familiari e del tempo che scorre. \nPardo per la migliore interpretazione a Kim Minhee \n\n\n\n\nALLA PRESENZA DI GIONA A. NAZZARO\, DIRETTORE ARTISTICO DEL LOCARNO FILM FESTIVAL \nSi consolida ulteriormente lo stretto legame tra il Locarno Film Festival e Cineteca Milano. Dall’11 al 14 ottobre\, infatti\, il Cinema Arlecchino ospiterà Locarno a Milano: quattro giorni – uno in più rispetto all’edizione del 2023 dedicati ai film della 77ª edizione dello storico festival svizzero\, presentati in esclusiva per la città e che vedranno la presenza di registi\, attori e ospiti che accompagneranno i film provenienti dalle sezioni più importanti.\nLocarno a Milano è un progetto di Cineteca Milano e Locarno Film Festival\, realizzato con il sostegno di Cinema on the Docks\, Fondazione Cariplo\, Filmidee\, Regione Lombardia\, Comune di Milano\, Ministero della Cultura e che vede come partner WindeX\, Istituto Svizzero di Milano e Ambasciata della Repubblica di Lituania. \n\nSCOPRI E ACQUISTA \n\nBiglietto intero: 8\,50 euro\nBiglietto ridotto under 25 e over 65: 7\,50 euro\nBiglietto ridotto Cinetessera: 6\,50 euro\nAbbonamento per tutti i film della rassegna: 20 euro (2\,20€ / biglietto)\nAbbonamento ridotto per studenti\, over 65 e possessori cinetessera: 15 euro (1\,60€ / biglietto) \nSCARICA LA PROGRAMMAZIONE COMPLETA
URL:https://www.cinemaonthedocks.it/event/locarno-a-milano-by-the-stream/
LOCATION:Cineteca Milano Arlecchino\, Via San Pietro all'Orto 9\, Milano\, Italia
CATEGORIES:Proiezione
ATTACH;FMTTYPE=image/png:https://www.cinemaonthedocks.it/wp-content/uploads/2024/09/BY-THE-STREAM.png
END:VEVENT
END:VCALENDAR