BEGIN:VCALENDAR
VERSION:2.0
PRODID:-//Cinema on the docks - ECPv6.5.1.4//NONSGML v1.0//EN
CALSCALE:GREGORIAN
METHOD:PUBLISH
X-WR-CALNAME:Cinema on the docks
X-ORIGINAL-URL:https://www.cinemaonthedocks.it
X-WR-CALDESC:Events for Cinema on the docks
REFRESH-INTERVAL;VALUE=DURATION:PT1H
X-Robots-Tag:noindex
X-PUBLISHED-TTL:PT1H
BEGIN:VTIMEZONE
TZID:Europe/Rome
BEGIN:DAYLIGHT
TZOFFSETFROM:+0100
TZOFFSETTO:+0200
TZNAME:CEST
DTSTART:20240331T010000
END:DAYLIGHT
BEGIN:STANDARD
TZOFFSETFROM:+0200
TZOFFSETTO:+0100
TZNAME:CET
DTSTART:20241027T010000
END:STANDARD
END:VTIMEZONE
BEGIN:VEVENT
DTSTART;TZID=Europe/Rome:20241004T150000
DTEND;TZID=Europe/Rome:20241006T200000
DTSTAMP:20260422T121719
CREATED:20240917T094813Z
LAST-MODIFIED:20240917T095926Z
UID:2514-1728054000-1728244800@www.cinemaonthedocks.it
SUMMARY:MILANO CENTRALE FESTIVAL: MOSTRA "CIONI CARPI - POINT AND COUNTERPOINT"
DESCRIPTION:Mostra CIONI CARPI Point and Counterpoint. Il cinema politico e sperimentale 1960-1970\nA cura di Matteo Pavesi e Luca Panaro\, accessibile il 4-5-6/10 dalle ore 15.00 alle ore 20.00.
URL:https://www.cinemaonthedocks.it/event/milano-centrale-festival-mostra-cioni-carpi-point-and-counterpoint/
LOCATION:Cineteca Milano Biblioteca Morandini\, Via Tofane 49\, Milano\, Italia
CATEGORIES:Mostra
ATTACH;FMTTYPE=image/jpeg:https://www.cinemaonthedocks.it/wp-content/uploads/2024/09/Milano-Centrale-festival_RGB-WEB-2023-3685234488.jpg
END:VEVENT
BEGIN:VEVENT
DTSTART;TZID=Europe/Rome:20241004T150000
DTEND;TZID=Europe/Rome:20241006T200000
DTSTAMP:20260422T121719
CREATED:20240917T095820Z
LAST-MODIFIED:20240917T095820Z
UID:2517-1728054000-1728244800@www.cinemaonthedocks.it
SUMMARY:MILANO CENTRALE FESTIVAL: MOSTRA "STUDIO BOÎTE - LIBRI D'ARTISTA"
DESCRIPTION:Mostra STUDIO BOÎTE libri d’artista.\nA cura di Federica Boragina e Giulia Brivio\, accessibile il 4-5-6/10 dalle ore 15.00 alle ore 20.00.
URL:https://www.cinemaonthedocks.it/event/milano-centrale-festival-mostra-studio-boite-libri-dartista/
LOCATION:Cineteca Milano Biblioteca Morandini\, Via Tofane 49\, Milano\, Italia
CATEGORIES:Mostra
ATTACH;FMTTYPE=image/jpeg:https://www.cinemaonthedocks.it/wp-content/uploads/2024/09/Milano-Centrale-festival_RGB-WEB-2023-3685234488.jpg
END:VEVENT
BEGIN:VEVENT
DTSTART;TZID=Europe/Rome:20241004T150000
DTEND;TZID=Europe/Rome:20241006T200000
DTSTAMP:20260422T121719
CREATED:20240917T100205Z
LAST-MODIFIED:20240917T100205Z
UID:2523-1728054000-1728244800@www.cinemaonthedocks.it
SUMMARY:MILANO CENTRALE FESTIVAL: MOSTRA "IL COLORE MUTO - ALLE ORIGINI DEL CINEMA"
DESCRIPTION:Mostra IL COLORE MUTO Alle origini del cinema\nA cura di Matteo Pavesi e Chiara Campagnari\, accessibile il 4-5-6/10 dalle ore 15.00 alle ore 20.00.
URL:https://www.cinemaonthedocks.it/event/milano-centrale-festival-mostra-il-colore-muto-alle-origini-del-cinema/
LOCATION:Cineteca Milano Biblioteca Morandini\, Via Tofane 49\, Milano\, Italia
CATEGORIES:Mostra
ATTACH;FMTTYPE=image/jpeg:https://www.cinemaonthedocks.it/wp-content/uploads/2024/09/Milano-Centrale-festival_RGB-WEB-2023-3685234488.jpg
END:VEVENT
BEGIN:VEVENT
DTSTART;TZID=Europe/Rome:20241006T170000
DTEND;TZID=Europe/Rome:20241006T173000
DTSTAMP:20260422T121719
CREATED:20240917T093404Z
LAST-MODIFIED:20240917T093457Z
UID:2508-1728234000-1728235800@www.cinemaonthedocks.it
SUMMARY:MILANO CENTRALE FESTIVAL: THE ART CHAPTER - LA FIERA SULL'EDITORIA D'ARTISTA
DESCRIPTION:The Art Chapter. La fiera sull’editoria d’artista.\nLuca Panaro in conversazione con Federica Boragina.
URL:https://www.cinemaonthedocks.it/event/milano-centrale-festival-the-art-chapter-la-fiera-sulleditoria-dartista/
LOCATION:Cineteca Milano Biblioteca Morandini\, Via Tofane 49\, Milano\, Italia
CATEGORIES:Incontro
ATTACH;FMTTYPE=image/jpeg:https://www.cinemaonthedocks.it/wp-content/uploads/2024/09/Milano-Centrale-festival_RGB-WEB-2023-3685234488.jpg
END:VEVENT
BEGIN:VEVENT
DTSTART;TZID=Europe/Rome:20241006T173000
DTEND;TZID=Europe/Rome:20241006T180000
DTSTAMP:20260422T121719
CREATED:20240917T094150Z
LAST-MODIFIED:20240917T094150Z
UID:2512-1728235800-1728237600@www.cinemaonthedocks.it
SUMMARY:MILANO CENTRALE FESTIVAL: IL COLORE MUTO - ALLE ORIGINI DEL CINEMA
DESCRIPTION:Il colore muto. Alle origini del cinema.\nMatteo Pavesi in conversazione con Chiara Campagnari.
URL:https://www.cinemaonthedocks.it/event/milano-centrale-festival-il-colore-muto-alle-origini-del-cinema/
LOCATION:Cineteca Milano Biblioteca Morandini\, Via Tofane 49\, Milano\, Italia
CATEGORIES:Incontro
ATTACH;FMTTYPE=image/jpeg:https://www.cinemaonthedocks.it/wp-content/uploads/2024/09/Milano-Centrale-festival_RGB-WEB-2023-3685234488.jpg
END:VEVENT
END:VCALENDAR