BEGIN:VCALENDAR
VERSION:2.0
PRODID:-//Cinema on the docks - ECPv6.5.1.4//NONSGML v1.0//EN
CALSCALE:GREGORIAN
METHOD:PUBLISH
X-ORIGINAL-URL:https://www.cinemaonthedocks.it
X-WR-CALDESC:Events for Cinema on the docks
REFRESH-INTERVAL;VALUE=DURATION:PT1H
X-Robots-Tag:noindex
X-PUBLISHED-TTL:PT1H
BEGIN:VTIMEZONE
TZID:Europe/Rome
BEGIN:DAYLIGHT
TZOFFSETFROM:+0100
TZOFFSETTO:+0200
TZNAME:CEST
DTSTART:20240331T010000
END:DAYLIGHT
BEGIN:STANDARD
TZOFFSETFROM:+0200
TZOFFSETTO:+0100
TZNAME:CET
DTSTART:20241027T010000
END:STANDARD
END:VTIMEZONE
BEGIN:VEVENT
DTSTART;TZID=Europe/Rome:20240919T203000
DTEND;TZID=Europe/Rome:20240919T223000
DTSTAMP:20260422T121839
CREATED:20240917T103821Z
LAST-MODIFIED:20240917T104337Z
UID:2529-1726777800-1726785000@www.cinemaonthedocks.it
SUMMARY:PER DESIDERIO
DESCRIPTION:Per desiderio è un documentario sulle immagini del cielo intese in chiave poetica\, letteraria e scientifica. Al centro della narrazione vi è un viaggio condotto da una ricercatrice di letteratura italiana\, donna con disabilità motoria\, e un astrofisico\, appassionato di Archeoastronomia\, per intervistare persone che hanno visto il cielo da punti di vista diversi tra loro. \nLa narrazione vuole partire da un elemento che ci unisce tutti noi – il cielo sopra le nostre teste – e vuole stimolare lo spettatore ad osservare la realtà da diversi punti di vista contemporanea\, per educare alla flessibilità del pensiero e alla cultura della diversità come ricchezza. \nLa regista e sceneggiatrice del film Paola Tricomi sarà presente in sala per un incontro con il pubblico al termine della proiezione. \nINFO E PRENOTAZIONI
URL:https://www.cinemaonthedocks.it/event/per-desiderio/
LOCATION:Cineteca Milano Arlecchino\, Via San Pietro all'Orto 9\, Milano\, Italia
CATEGORIES:Proiezione
ATTACH;FMTTYPE=image/jpeg:https://www.cinemaonthedocks.it/wp-content/uploads/2024/09/unnamed-5-2391906700.jpg
END:VEVENT
END:VCALENDAR